BEGIN:VCALENDAR
VERSION:2.0
PRODID:-//Dayenu - ECPv6.10.1.1//NONSGML v1.0//EN
CALSCALE:GREGORIAN
METHOD:PUBLISH
X-WR-CALNAME:Dayenu
X-ORIGINAL-URL:https://dayenu.org
X-WR-CALDESC:Events for Dayenu
REFRESH-INTERVAL;VALUE=DURATION:PT1H
X-Robots-Tag:noindex
X-PUBLISHED-TTL:PT1H
BEGIN:VTIMEZONE
TZID:America/New_York
BEGIN:DAYLIGHT
TZOFFSETFROM:-0500
TZOFFSETTO:-0400
TZNAME:EDT
DTSTART:20240310T070000
END:DAYLIGHT
BEGIN:STANDARD
TZOFFSETFROM:-0400
TZOFFSETTO:-0500
TZNAME:EST
DTSTART:20241103T060000
END:STANDARD
TZID:UTC
BEGIN:STANDARD
TZOFFSETFROM:+0000
TZOFFSETTO:+0000
TZNAME:UTC
DTSTART:20240101T000000
END:STANDARD
TZID:America/Los_Angeles
BEGIN:DAYLIGHT
TZOFFSETFROM:-0800
TZOFFSETTO:-0700
TZNAME:PDT
DTSTART:20240310T100000
END:DAYLIGHT
BEGIN:STANDARD
TZOFFSETFROM:-0700
TZOFFSETTO:-0800
TZNAME:PST
DTSTART:20241103T090000
END:STANDARD
END:VTIMEZONE
BEGIN:VEVENT
DTSTART;TZID=America/New_York:20240926T180000
DTEND;TZID=America/New_York:20240926T200000
DTSTAMP:20260420T045211
CREATED:20240821T181652Z
LAST-MODIFIED:20240923T200548Z
UID:11246-1727373600-1727380800@dayenu.org
SUMMARY:Calling Virginia (Gen Z Night)
DESCRIPTION:Do you have the Chutzpah to organize for a just and livable future? \nJoin Dayenu and the Environmental Voter Project to turn out climate voters in Virginia. This shift is co-sponsored by JYCM. \nWe’ll ground ourselves in Jewish wisdom\, go over the scripts we’ll be using\, then get to work calling voters. \nIf you’ve already been trained by Dayenu or EVP\, you can jump right into calling. If this is your first time phonebanking\, no worries; we’ll train you before you start calling. All you need to participate is a phone (landline or cell)\, web-enabled computer or tablet\, and yourself. \nAutomatic live captioning will be provided in Zoom.
URL:https://secure.everyaction.com/RMQjJJl-8EmJ7IHYjvOR_A2#new_tab
CATEGORIES:Chutzpah 2024,Phonebanks
END:VEVENT
BEGIN:VEVENT
DTSTART;TZID=America/New_York:20240925T170000
DTEND;TZID=America/New_York:20240925T190000
DTSTAMP:20260420T045211
CREATED:20240919T150928Z
LAST-MODIFIED:20240919T151128Z
UID:11557-1727283600-1727290800@dayenu.org
SUMMARY:MultiFaith Convening - Center For Earth Ethics
DESCRIPTION:Join Rabbi Jennie Rosenn and multifaith leaders for a convening that explores the role of faith and wisdom traditions in the climate movement! This interfaith gathering marks Climate Week NYC and the ten-year anniversary of the Religions for the Earth conference.
URL:https://centerforearthethics.org/event/multifaith-convening-reception/#new_tab
CATEGORIES:Events
END:VEVENT
BEGIN:VEVENT
DTSTART;TZID=America/New_York:20240924T180000
DTEND;TZID=America/New_York:20240924T200000
DTSTAMP:20260420T045211
CREATED:20240820T195216Z
LAST-MODIFIED:20240821T181734Z
UID:11204-1727200800-1727208000@dayenu.org
SUMMARY:Calling Virginia
DESCRIPTION:Do you have the Chutzpah to organize for a just and livable future? \nJoin Dayenu and the Environmental Voter Project to turn out climate voters in Virginia. \nWe’ll ground ourselves in Jewish wisdom\, go over the scripts we’ll be using\, then get to work calling voters. \nIf you’ve already been trained by Dayenu or EVP\, you can jump right into calling. If this is your first time phonebanking\, no worries; we’ll train you before you start calling. All you need to participate is a phone (landline or cell)\, web-enabled computer or tablet\, and yourself. \nAutomatic live captioning will be provided in Zoom.
URL:https://secure.everyaction.com/wYmHxGkBF0K1kKS4413utQ2#new_tab
CATEGORIES:Chutzpah 2024,Phonebanks
END:VEVENT
BEGIN:VEVENT
DTSTART;TZID=America/New_York:20240919T130000
DTEND;TZID=America/New_York:20240919T150000
DTSTAMP:20260420T045211
CREATED:20240820T195049Z
LAST-MODIFIED:20240821T183017Z
UID:11202-1726750800-1726758000@dayenu.org
SUMMARY:Calling Pennsylvania
DESCRIPTION:Do you have the Chutzpah to organize for a just and livable future? \nJoin Dayenu and the Environmental Voter Project to turn out climate voters in Pennsylvania. This shift is co-sponsored by T’ruah. \nWe’ll ground ourselves in Jewish wisdom\, go over the scripts we’ll be using\, then get to work calling voters. \nIf you’ve already been trained by Dayenu or EVP\, you can jump right into calling. If this is your first time phonebanking\, no worries; we’ll train you before you start calling. All you need to participate is a phone (landline or cell)\, web-enabled computer or tablet\, and yourself. \nAutomatic live captioning will be provided in Zoom.
URL:https://secure.everyaction.com/VUIWcrGaWUaSnUgWBPrVzA2#new_tab
CATEGORIES:Chutzpah 2024,Phonebanks
END:VEVENT
BEGIN:VEVENT
DTSTART;TZID=America/New_York:20240917T130000
DTEND;TZID=America/New_York:20240917T150000
DTSTAMP:20260420T045211
CREATED:20240820T191500Z
LAST-MODIFIED:20240821T183027Z
UID:11172-1726578000-1726585200@dayenu.org
SUMMARY:Calling Pennsylvania Jewish Voters
DESCRIPTION:Do you have the Chutzpah to organize for a just and livable future? \nJoin Dayenu and the Environmental Voter Project to turn out climate voters in Pennsylvania. This shift is co-sponsored by Higher Ground Initiative\, T’ruah\, and Colorado Jews for Climate Action. \nWe’ll ground ourselves in Jewish wisdom\, go over the scripts we’ll be using\, then get to work calling voters. \nIf you’ve already been trained by Dayenu or EVP\, you can jump right into calling. If this is your first time phonebanking\, no worries; we’ll train you before you start calling. All you need to participate is a phone (landline or cell)\, web-enabled computer or tablet\, and yourself. \nAutomatic live captioning will be provided in Zoom.
URL:https://secure.everyaction.com/Lcl5qrRCvkS2SqwEqWf1kg2#new_tab
CATEGORIES:Chutzpah 2022,Phonebanks
END:VEVENT
BEGIN:VEVENT
DTSTART;TZID=America/New_York:20240916T150000
DTEND;TZID=America/New_York:20240916T160000
DTSTAMP:20260420T045211
CREATED:20240722T210953Z
LAST-MODIFIED:20240808T142511Z
UID:10861-1726498800-1726502400@dayenu.org
SUMMARY:Phonebank Host Info Session
DESCRIPTION:This is a big moment for to make sure that climate is a key issue this election. Join us to process this major political moment and talk about our plans. We’ll ground ourselves in Jewish wisdom\, then turn our energies towards how we can organize our communities to make a difference on climate this election cycle.
URL:https://secure.everyaction.com/RlICUK3Yekal2psLEBE9Nw2#new_tab
CATEGORIES:Campaign Calls,Events
END:VEVENT
BEGIN:VEVENT
DTSTART;TZID=America/New_York:20240912T180000
DTEND;TZID=America/New_York:20240912T200000
DTSTAMP:20260420T045211
CREATED:20240820T191345Z
LAST-MODIFIED:20240821T182012Z
UID:11170-1726164000-1726171200@dayenu.org
SUMMARY:Calling Pennsylvania
DESCRIPTION:Do you have the Chutzpah to organize for a just and livable future? \nJoin Dayenu and the Environmental Voter Project to turn out climate voters in Pennsylvania. This shift is co-sponsored by T’ruah. \nWe’ll ground ourselves in Jewish wisdom\, go over the scripts we’ll be using\, then get to work calling voters. \nIf you’ve already been trained by Dayenu or EVP\, you can jump right into calling. If this is your first time phonebanking\, no worries; we’ll train you before you start calling. All you need to participate is a phone (landline or cell)\, web-enabled computer or tablet\, and yourself. \nAutomatic live captioning will be provided in Zoom.
URL:https://secure.everyaction.com/UOSXUWGZfEynlXdImWneRQ2#new_tab
CATEGORIES:Chutzpah 2024,Phonebanks
END:VEVENT
BEGIN:VEVENT
DTSTART;TZID=America/New_York:20240911T200000
DTEND;TZID=America/New_York:20240911T210000
DTSTAMP:20260420T045211
CREATED:20240821T150915Z
LAST-MODIFIED:20240821T150944Z
UID:11242-1726084800-1726088400@dayenu.org
SUMMARY:Building Media Skills With Chutzpah
DESCRIPTION:This workshop is appropriate for both beginners and people who’ve done previous training or have media skills. While this training will be geared toward media outreach around the Chutzpah 2024 campaign\, it will be effective for anyone looking to build media skills.
URL:https://secure.everyaction.com/fIum3jkT7kC5_vgTCKo38A2#new_tab
CATEGORIES:Events
END:VEVENT
BEGIN:VEVENT
DTSTART;TZID=America/New_York:20240910T180000
DTEND;TZID=America/New_York:20240910T200000
DTSTAMP:20260420T045211
CREATED:20240820T191233Z
LAST-MODIFIED:20240821T182108Z
UID:11168-1725991200-1725998400@dayenu.org
SUMMARY:Calling Pennsylvania
DESCRIPTION:Do you have the Chutzpah to organize for a just and livable future? \nJoin Dayenu and the Environmental Voter Project to turn out climate voters in Pennsylvania. This shift is co-sponsored by JCAN-NYC & T’ruah. \nWe’ll ground ourselves in Jewish wisdom\, go over the scripts we’ll be using\, then get to work calling voters. \nIf you’ve already been trained by Dayenu or EVP\, you can jump right into calling. If this is your first time phonebanking\, no worries; we’ll train you before you start calling. All you need to participate is a phone (landline or cell)\, web-enabled computer or tablet\, and yourself. \nAutomatic live captioning will be provided in Zoom.
URL:https://secure.everyaction.com/fFSV9oP2UUqh4NvoEwWi1g2#new_tab
CATEGORIES:Chutzpah 2024,Phonebanks
END:VEVENT
BEGIN:VEVENT
DTSTART;TZID=America/New_York:20240909T150000
DTEND;TZID=America/New_York:20240909T160000
DTSTAMP:20260420T045211
CREATED:20240722T210804Z
LAST-MODIFIED:20240808T142745Z
UID:10859-1725894000-1725897600@dayenu.org
SUMMARY:Phonebank Host Info Session
DESCRIPTION:This is a big moment for to make sure that climate is a key issue this election. Join us to process this major political moment and talk about our plans. We’ll ground ourselves in Jewish wisdom\, then turn our energies towards how we can organize our communities to make a difference on climate this election cycle.
URL:https://secure.everyaction.com/tzFoVwaKpUWb0VUaRvXWLQ2#new_tab
CATEGORIES:Campaign Calls,Events
END:VEVENT
BEGIN:VEVENT
DTSTART;TZID=America/New_York:20240904T190000
DTEND;TZID=America/New_York:20240904T203000
DTSTAMP:20260420T045211
CREATED:20240722T211217Z
LAST-MODIFIED:20240813T183444Z
UID:10863-1725476400-1725481800@dayenu.org
SUMMARY:Chutzpah 2024 Launch Event
DESCRIPTION:We’ll be doing all we can to mobilize climate voters and elect climate champions with the chutzpah to deliver urgent action. Phonebanking\, organizing\, reaching out to the media\, and more! The first step? Sign up to attend this fun\, inspiring event with other Jewish climate activists across the country.
URL:https://secure.everyaction.com/itW2giR7CkW_5Rz-0maGyA2#new_tab
CATEGORIES:Campaign Calls,Chutzpah 2024,Phonebanks
ATTACH;FMTTYPE=image/jpeg:https://dayenu.org/wp-content/uploads/2024/07/Adamah-Election-Day-phonebank-photo-by-Janna-Siller-scaled.jpg
END:VEVENT
BEGIN:VEVENT
DTSTART;TZID=UTC:20240820T210000
DTEND;TZID=UTC:20240820T220000
DTSTAMP:20260420T045211
CREATED:20240722T210441Z
LAST-MODIFIED:20240808T142338Z
UID:10854-1724187600-1724191200@dayenu.org
SUMMARY:Phonebank Host Info Session
DESCRIPTION:This is a big moment for to make sure that climate is a key issue this election. Join us to process this major political moment and talk about our plans. We’ll ground ourselves in Jewish wisdom\, then turn our energies towards how we can organize our communities to make a difference on climate this election cycle.
URL:https://secure.everyaction.com/MvOLwCwszUKI3zhQX67j0w2#new_tab
CATEGORIES:Campaign Calls,Events
END:VEVENT
BEGIN:VEVENT
DTSTART;TZID=America/New_York:20240807T150000
DTEND;TZID=America/New_York:20240807T160000
DTSTAMP:20260420T045211
CREATED:20240722T210214Z
LAST-MODIFIED:20240808T142546Z
UID:10851-1723042800-1723046400@dayenu.org
SUMMARY:Phonebank Host Info Session
DESCRIPTION:This is a big moment for to make sure that climate is a key issue this election. Join us to process this major political moment and talk about our plans. We’ll ground ourselves in Jewish wisdom\, then turn our energies towards how we can organize our communities to make a difference on climate this election cycle.
URL:https://secure.everyaction.com/ETA7BEC5nESsTiGMm6i-tg2#new_tab
CATEGORIES:Campaign Calls,Events
END:VEVENT
BEGIN:VEVENT
DTSTART;TZID=America/New_York:20240801T160000
DTEND;TZID=America/New_York:20240801T180000
DTSTAMP:20260420T045211
CREATED:20240717T204236Z
LAST-MODIFIED:20240717T204236Z
UID:10740-1722528000-1722535200@dayenu.org
SUMMARY:No Faith In Fossil Fuels (Summer Of Heat)
DESCRIPTION:Faith leaders\, both clergy and lay\, from across NYC and the Gulf South as we lift our voices to tell Citibank to stop killing creation. As people of faith and spirit\, we will not stand for our communities and the most vulnerable among us\, including our fragile biosphere\, being ravaged by fossil fuels. Join GreenFaith\, Dayenu\, Earth Quaker Action Team\, Third Act Faith\, and XR Mindful Rebels for a fun and inspiring day of food\, song\, art\, and meaningful spiritual practice in Citi Plaza. \nLocation: Citi HQ\, 388 Greenwich St\, New York\, NY 10013
URL:https://secure.everyaction.com/PEwqFlCvMEutRf12OZWTMw2?source=faithweek-dayenu&#038;emci=7895df21-a53f-ef11-86d2-6045bddbfc4b&#038;emdi=ea000000-0000-0000-0000-000000000001&#038;ceid=%7B%7BContactsEmailID%7D%7D#new_tab
CATEGORIES:Actions,Events
END:VEVENT
BEGIN:VEVENT
DTSTART;TZID=America/New_York:20240731T120000
DTEND;TZID=America/New_York:20240731T130000
DTSTAMP:20260420T045211
CREATED:20240722T205900Z
LAST-MODIFIED:20240722T210520Z
UID:10849-1722427200-1722430800@dayenu.org
SUMMARY:Phonebank Host Info Session
DESCRIPTION:This is a big moment for to make sure that climate is a key issue this election. Join us to process this major political moment and talk about our plans. We’ll ground ourselves in Jewish wisdom\, then turn our energies towards how we can organize our communities to make a difference on climate this election cycle.
URL:https://secure.everyaction.com/bUtMeQctqUuRxCr0QdEfWw2#new_tab
CATEGORIES:Campaign Calls,Events
END:VEVENT
BEGIN:VEVENT
DTSTART;TZID=America/New_York:20240730T080000
DTEND;TZID=America/New_York:20240730T210000
DTSTAMP:20260420T045211
CREATED:20240627T164700Z
LAST-MODIFIED:20240722T210541Z
UID:10439-1722326400-1722373200@dayenu.org
SUMMARY:Phonebank Host Info Session
DESCRIPTION:This is a big moment for to make sure that climate is a key issue this election. Join us to process this major political moment and talk about our plans. We’ll ground ourselves in Jewish wisdom\, then turn our energies towards how we can organize our communities to make a difference on climate this election cycle.
URL:https://secure.everyaction.com/nHppS9Jg-0m1M_QXTrTxXg2#new_tab
CATEGORIES:Campaign Calls,Events
END:VEVENT
BEGIN:VEVENT
DTSTART;TZID=America/New_York:20240725T080000
DTEND;TZID=America/New_York:20240725T210000
DTSTAMP:20260420T045211
CREATED:20240627T164431Z
LAST-MODIFIED:20240627T164431Z
UID:10436-1721894400-1721941200@dayenu.org
SUMMARY:Phonebank Host Info Session
DESCRIPTION:We have big plans to elevate climate as an election issue and each of us has a role to play in that work. Join us for one of our info sessions to learn more about what it means to host or cosponsor and the resources and support you’ll receive from Dayenu.
URL:https://secure.everyaction.com/V9b7DZ2pbkysYdKB44FxFg2#new_tab
CATEGORIES:Campaign Calls,Events
END:VEVENT
BEGIN:VEVENT
DTSTART;TZID=America/New_York:20240724T110000
DTEND;TZID=America/New_York:20240724T120000
DTSTAMP:20260420T045211
CREATED:20240624T163853Z
LAST-MODIFIED:20240624T163853Z
UID:10340-1721818800-1721822400@dayenu.org
SUMMARY:Phonebank Host Info Session
DESCRIPTION:We have big plans to elevate climate as an election issue and each of us has a role to play in that work. Join us for one of our info sessions to learn more about what it means to host or cosponsor and the resources and support you’ll receive from Dayenu.
URL:https://secure.everyaction.com/mhY5-iKNn0aN8LhLZYw8ZA2#new_tab
CATEGORIES:Campaign Calls,Events
END:VEVENT
BEGIN:VEVENT
DTSTART;TZID=America/New_York:20240723T030000
DTEND;TZID=America/New_York:20240723T160000
DTSTAMP:20260420T045211
CREATED:20240718T160424Z
LAST-MODIFIED:20240718T160424Z
UID:10752-1721703600-1721750400@dayenu.org
SUMMARY:Webinar: 2024 Faithful Voter Reflection Guide
DESCRIPTION:As people of faith and conscience\, we believe elections are a referendum on the values that will shape our future. Voting is how we create a society based on our shared values. That’s why Interfaith Power & Light updates its multi-issue\, nonpartisan Faithful Voter Reflection Guide each election season. \nOn July 23\, join Rev. Melanie Mullen\, an IPL board member and The Episcopal Church’s Director of Reconciliation\, Justice\, and Creation Care\, as she discusses the guide with these guests: \n\nMarqus Cole\, Organizing Director at Georgia Interfaith Power & Light\nMuriel MacDonald\, Deputy Organizing Director at Dayenu\nAhmet Tekelioglu\, Executive Director of The Council on American-Islamic Relations’ Pennsylvania chapter\n\nThey’ll discuss the guide’s key themes and share how you can use it this year.​ The reflection guide is intended to spur discussion and discernment. Whether you use it at a kitchen table\, in a house of worship\, at a community forum\, or at an event with policymakers and political candidates\, we hope it helps you navigate the urgent moral questions raised by this election. \nThe issues we address in the guide are not exhaustive. Still\, we believe they provide a framework for evaluating issues in a way that prioritizes solutions that promote dignity\, social justice\, and the common good. Each section includes suggested questions to guide your conversations.
URL:https://action.interfaithpowerandlight.org/vgwebinar24#new_tab
CATEGORIES:Events
END:VEVENT
BEGIN:VEVENT
DTSTART;TZID=America/New_York:20240718T200000
DTEND;TZID=America/New_York:20240718T204500
DTSTAMP:20260420T045211
CREATED:20240603T184701Z
LAST-MODIFIED:20240624T163248Z
UID:9892-1721332800-1721335500@dayenu.org
SUMMARY:Workshop: Preparing a Kavanah
DESCRIPTION:Join us for this supportive session about how to craft and share a kavanah – a short (2-3 min) intention\, grounded in Jewish wisdom\, to inspire action. Explore a few of Dayenu’s Climate Torah teachings and/or bring your own favorite Jewish climate teaching\, learn simple steps for designing a kavanah\, and get ready to inspire others this election season and beyond! No Jewish background or knowledge necessary to attend. \nDATE: July 18\, 2024\nTIME: 8:00-8:45pm ET / 5:00-5:45 PT\nWHERE: Virtual (Zoom)
URL:https://secure.everyaction.com/hsLk8xPdwky-_kAtvFDdzg2#new_tab
CATEGORIES:Events,Workshops
END:VEVENT
BEGIN:VEVENT
DTSTART;TZID=America/New_York:20240717T150000
DTEND;TZID=America/New_York:20240717T160000
DTSTAMP:20260420T045211
CREATED:20240624T163623Z
LAST-MODIFIED:20240624T163623Z
UID:10338-1721228400-1721232000@dayenu.org
SUMMARY:Phonebank Host Info Session
DESCRIPTION:We have big plans to elevate climate as an election issue and each of us has a role to play in that work. Join us for one of our info sessions to learn more about what it means to host or cosponsor and the resources and support you’ll receive from Dayenu.
URL:https://secure.everyaction.com/Oy3rohCQcEWe8wjXw5cHaw2#new_tab
CATEGORIES:Campaign Calls,Events
END:VEVENT
BEGIN:VEVENT
DTSTART;TZID=America/New_York:20240716T150000
DTEND;TZID=America/New_York:20240716T160000
DTSTAMP:20260420T045211
CREATED:20240624T163204Z
LAST-MODIFIED:20240624T163422Z
UID:10334-1721142000-1721145600@dayenu.org
SUMMARY:Phonebank Host Info Session
DESCRIPTION:We have big plans to elevate climate as an election issue and each of us has a role to play in that work. Join us for one of our info sessions to learn more about what it means to host or cosponsor and the resources and support you’ll receive from Dayenu.
URL:https://secure.everyaction.com/up6TkJlu40CS27ek8q9urQ2#new_tab
CATEGORIES:Campaign Calls,Events
END:VEVENT
BEGIN:VEVENT
DTSTART;TZID=America/New_York:20240618T080000
DTEND;TZID=America/New_York:20240618T210000
DTSTAMP:20260420T045211
CREATED:20240603T160036Z
LAST-MODIFIED:20240603T160036Z
UID:9890-1718697600-1718744400@dayenu.org
SUMMARY:Storytelling Workshop: A Most Powerful Tool
DESCRIPTION:Stories are what connect us to our history\, our values\, and our communities. They also call us to action. Join this training to learn some of the basics of telling your story\, how to use it to motivate others to act\, and to practice with a supportive group. No experience needed\, everyone is welcome. \nSIGN UP HERE
URL:https://secure.everyaction.com/7gRmwFtXgk-_kor5qUGrTg2?emci=211890dd-041e-ef11-86d0-6045bdd9e096&#038;emdi=0534c1a8-861f-ef11-86d2-6045bdd9e096&#038;ceid=21576663#new_tab
CATEGORIES:Events,Workshops
ATTACH;FMTTYPE=image/jpeg:https://dayenu.org/wp-content/uploads/2024/05/junghokim-20240519-364-Jungho-Kim-scaled.jpg
END:VEVENT
BEGIN:VEVENT
DTSTART;TZID=America/Los_Angeles:20240519T130000
DTEND;TZID=America/Los_Angeles:20240519T160000
DTSTAMP:20260420T045211
CREATED:20240308T171031Z
LAST-MODIFIED:20240401T164129Z
UID:8349-1716123600-1716134400@dayenu.org
SUMMARY:Northern California Jewish Climate Gathering
DESCRIPTION:This May\, Dayenu and RAC-CA are organizing a Northern California Jewish Climate Gathering in Berkeley\, California to kickstart efforts to protect a key piece of state climate justice legislation. \nIn 2022\, after decades of frontline-led community organizing\, the California legislature passed SB1137: a law establishing a 3\,200 ft health and safety buffer zone between oil and gas drilling and homes\, schools\, and hospitals. This landmark bill protects the health and safety of CA communities\, especially the frontline communities who suffer the worst health impacts from oil and gas extraction in their backyards. This law is also an important step towards a safe and healthy planet for us all: it closes 25% of the state’s dirtiest oil and gas production – oil that needs to stay in the ground to avoid catastrophic climate change. \nPredictably\, the oil and gas industry is spending millions of dollars to try to overturn the law through a statewide ballot referendum in November 2024. Their primary tactic seems to be to mislead the public about what we are voting on\, through a multi-million dollar ad campaign. \nJoin us as we build our organizing skills and prepare to take action to keep the health and safety buffer zone! \nREGISTER HERE
URL:https://dayenu.org/event/northern-california-jewish-climate-summit/
CATEGORIES:Events
END:VEVENT
BEGIN:VEVENT
DTSTART;TZID=America/New_York:20240508T200000
DTEND;TZID=America/New_York:20240508T210000
DTSTAMP:20260420T045211
CREATED:20240502T180409Z
LAST-MODIFIED:20240502T180533Z
UID:9042-1715198400-1715202000@dayenu.org
SUMMARY:Media Skills Workshop
DESCRIPTION:Join us for a media skills training where we’ll cover how to write effective Op-Eds and letters to the editor\, how to target the right media outlet\, how to reach out to the outlet to pitch\, and more! \n  \n 
URL:https://dayenu.org/media-training/#new_tab
CATEGORIES:Workshops
END:VEVENT
BEGIN:VEVENT
DTSTART;TZID=America/Los_Angeles:20240505T130000
DTEND;TZID=America/Los_Angeles:20240505T160000
DTSTAMP:20260420T045211
CREATED:20240308T170941Z
LAST-MODIFIED:20240401T164117Z
UID:8347-1714914000-1714924800@dayenu.org
SUMMARY:Southern California Jewish Climate Gathering
DESCRIPTION:This May\, Dayenu and RAC-CA are organizing a Southern California Jewish Climate Gathering in Los Angeles\, California to kickstart efforts to protect a key piece of state climate justice legislation. \nIn 2022\, after decades of frontline-led community organizing\, the California legislature passed SB1137: a law establishing a 3\,200 ft health and safety buffer zone between oil and gas drilling and homes\, schools\, and hospitals. This landmark bill protects the health and safety of CA communities\, especially the frontline communities who suffer the worst health impacts from oil and gas extraction in their backyards. This law is also an important step towards a safe and healthy planet for us all: it closes 25% of the state’s dirtiest oil and gas production – oil that needs to stay in the ground to avoid catastrophic climate change. \nPredictably\, the oil and gas industry is spending millions of dollars to try to overturn the law through a statewide ballot referendum in November 2024. Their primary tactic seems to be to mislead the public about what we are voting on\, through a multi-million dollar ad campaign. \nJoin us as we build our organizing skills and prepare to take action to keep the health and safety buffer zone! \nREGISTER HERE
URL:https://dayenu.org/event/southern-california-jewish-climate-summit/
CATEGORIES:Events
END:VEVENT
BEGIN:VEVENT
DTSTART;TZID=America/New_York:20240414T103000
DTEND;TZID=America/New_York:20240414T120000
DTSTAMP:20260420T045211
CREATED:20240403T203746Z
LAST-MODIFIED:20240403T203746Z
UID:8709-1713090600-1713096000@dayenu.org
SUMMARY:Earth Day: Beyond Greening – Jewish Responses to the Climate Emergency
DESCRIPTION:Jewish Americans are responding to the climate emergency with stepped-up advocacy that goes beyond localized “greening.” Lawrence MacDonald\, author of a new Moment Magazine article describing these trends\, will provide an update. Dahlia Rockowitz will tell how Dayenu supports communities like Temple Micah that want to join these efforts. \nThis special Earth Day event is presented by Temple Micah’s Climate Action Group. Snacks provided. \nPlease register to attend. \nContact the office for the Zoom link. \nAbout the Speakers\nLawrence MacDonald is the author of “Am I Too Old to Save the Planet? A Boomer’s Guide to Climate Action” and co-lead of the Dayenu Circle at Temple Rodef Shalom. \nDahlia Rockowitz is the Director of Campaigns and Partnerships at Dayenu\, a national Jewish call to climate action. She previously worked in both the climate and Jewish social justice movements\, planning activist trainings for thousands of committed volunteers around the world at The Climate Reality Project and advocating to the US government in support of human rights and climate justice worldwide at American Jewish World Service.
URL:https://www.templemicah.org/events/earth-day-beyond-greening-jewish-responses-to-climate-emergency/#new_tab
CATEGORIES:Events
END:VEVENT
BEGIN:VEVENT
DTSTART;TZID=America/New_York:20240408T183000
DTEND;TZID=America/New_York:20240408T210000
DTSTAMP:20260420T045211
CREATED:20240322T195332Z
LAST-MODIFIED:20240322T195332Z
UID:8487-1712601000-1712610000@dayenu.org
SUMMARY:Philly: Center City at Weitzman | Spiritual Adaptation Workshop | April 8\, 2024
DESCRIPTION:SPIRITUAL COURAGE AND THE CLIMATE CRISIS\nWORKSHOP REGISTRATION: LINK TO REGISTER\nWhen: Monday\, April 8 |  6:00pm ET arrive + schmooze; 6:30-9:00pm workshop \n\nWhere: Weitzman National Museum of American Jewish History (full address upon registration). \nThis interactive workshop is part of an emerging field of climate Spiritual Adaptation work. The workshop draws on Jewish wisdom for courageous climate conversations\, is open to all — teens and older\, and is based on Joanna Macy’s Work That Reconnects. It offers a unique opportunity at the intersection of Judaism and climate to process grief\, cultivate imagination for a just\, livable future\, and embark on a path to bold\, systemic climate action. *We ask that participants arrive a few minutes early and strive to be present for the full workshop. There will be a break.”
URL:https://dayenu.org/event/philly-center-city-at-weitzman-spiritual-adaptation-workshop-april-8-2024/
CATEGORIES:Spiritual Adaptation,Workshops
END:VEVENT
BEGIN:VEVENT
DTSTART;TZID=America/New_York:20240407T100000
DTEND;TZID=America/New_York:20240407T163000
DTSTAMP:20260420T045211
CREATED:20240312T165119Z
LAST-MODIFIED:20240321T182836Z
UID:8392-1712484000-1712507400@dayenu.org
SUMMARY:2024 New York Jewish Climate Summit
DESCRIPTION:REGISTER HERE
URL:https://urj.tfaforms.net/forms/view/1397?tfa_573=tfa_576#new_tab
CATEGORIES:Events
END:VEVENT
BEGIN:VEVENT
DTSTART;TZID=America/New_York:20240328T193000
DTEND;TZID=America/New_York:20240328T213000
DTSTAMP:20260420T045211
CREATED:20231205T013526Z
LAST-MODIFIED:20240312T152511Z
UID:7204-1711654200-1711661400@dayenu.org
SUMMARY:Spiritual Adaptation Workshop for all ages (Virtual)  |  MARCH 28\, 2024
DESCRIPTION:SPIRITUAL COURAGE AND THE CLIMATE CRISIS\nWORKSHOP REGISTRATION: LINK TO REGISTER\nThis interactive workshop is part of an emerging field of climate Spiritual Adaptation work. The workshop draws on Jewish wisdom for courageous climate conversations\, is open to all — teens and older\, and is based on Joanna Macy’s Work That Reconnects. It offers a unique opportunity at the intersection of Judaism and climate to process grief\, cultivate imagination for a just\, livable future\, and embark on a path to bold\, systemic climate action. *We ask that participants arrive a few minutes early and strive to be present for the full workshop. There will be a break.* \nWhen: Thursday\, March 28\, 7:30-9:30pm ET | 4:30-6:30pm PT on Zoom
URL:https://airtable.com/appLVdqWBHTVWW4l3/shraMTpMFTRqsH1OO#new_tab
CATEGORIES:Spiritual Adaptation
END:VEVENT
END:VCALENDAR