BEGIN:VCALENDAR
VERSION:2.0
PRODID:-//Dayenu - ECPv6.10.1.1//NONSGML v1.0//EN
CALSCALE:GREGORIAN
METHOD:PUBLISH
X-ORIGINAL-URL:https://dayenu.org
X-WR-CALDESC:Events for Dayenu
REFRESH-INTERVAL;VALUE=DURATION:PT1H
X-Robots-Tag:noindex
X-PUBLISHED-TTL:PT1H
BEGIN:VTIMEZONE
TZID:America/New_York
BEGIN:DAYLIGHT
TZOFFSETFROM:-0500
TZOFFSETTO:-0400
TZNAME:EDT
DTSTART:20260308T070000
END:DAYLIGHT
BEGIN:STANDARD
TZOFFSETFROM:-0400
TZOFFSETTO:-0500
TZNAME:EST
DTSTART:20261101T060000
END:STANDARD
END:VTIMEZONE
BEGIN:VEVENT
DTSTART;TZID=America/New_York:20260429T173000
DTEND;TZID=America/New_York:20260429T183000
DTSTAMP:20260425T075939
CREATED:20260420T164442Z
LAST-MODIFIED:20260420T164442Z
UID:20844-1777483800-1777487400@dayenu.org
SUMMARY:California Leaders & Volunteers Meeting
DESCRIPTION:Join us for our biweekly statewide gathering\, where leaders and activists from across the state come together to strategize\, connect\, and build community.
URL:https://www.mobilize.us/dayenu/event/918446/#new_tab
LOCATION:Virtual
CATEGORIES:California,Events,We Rise
END:VEVENT
BEGIN:VEVENT
DTSTART;TZID=America/New_York:20260430T171500
DTEND;TZID=America/New_York:20260430T183000
DTSTAMP:20260425T075939
CREATED:20260312T200719Z
LAST-MODIFIED:20260420T165315Z
UID:20369-1777569300-1777573800@dayenu.org
SUMMARY:NY Leaders & Volunteers Meeting
DESCRIPTION:Join us for our biweekly statewide gathering\, where leaders and activists from across the state come together to strategize\, connect\, and build community.
URL:https://www.mobilize.us/dayenu/event/918441/#new_tab
LOCATION:Virtual
CATEGORIES:Circles,Events,New York
END:VEVENT
BEGIN:VEVENT
DTSTART;TZID=America/New_York:20260507T150000
DTEND;TZID=America/New_York:20260507T160000
DTSTAMP:20260425T075939
CREATED:20260325T201338Z
LAST-MODIFIED:20260420T165346Z
UID:20506-1778166000-1778169600@dayenu.org
SUMMARY:Gathering for artists and creatives of all kinds
DESCRIPTION:If you write\, create visual art\, music\, theater\, film\, or more\, please join us for our second Open Artists Gathering to connect and create together.
URL:https://secure.everyaction.com/XdVMI9gqNkiuBMyyEJJRWw2#new_tab
LOCATION:Virtual
CATEGORIES:Arts & Music,Events,Spiritual Adaptation
END:VEVENT
BEGIN:VEVENT
DTSTART;TZID=America/New_York:20260507T183000
DTEND;TZID=America/New_York:20260507T200000
DTSTAMP:20260425T075939
CREATED:20260421T184508Z
LAST-MODIFIED:20260421T184820Z
UID:20853-1778178600-1778184000@dayenu.org
SUMMARY:Boston Jewish Climate Meetup
DESCRIPTION:A great\, informal opportunity to meet other climate-concerned Jewish activists in the Boston-area\, share what you’re up to\, and hear updates from MA State Organizer & Campaigner.
URL:https://www.mobilize.us/dayenu/event/938101/#new_tab
LOCATION:In-Person
CATEGORIES:Circles,Events,We Rise
END:VEVENT
BEGIN:VEVENT
DTSTART;VALUE=DATE:20260512
DTEND;VALUE=DATE:20260513
DTSTAMP:20260425T075939
CREATED:20260421T184801Z
LAST-MODIFIED:20260421T203903Z
UID:20855-1778544000-1778630399@dayenu.org
SUMMARY:Massachusetts Statewide Lobby Day: Love Your Mother
DESCRIPTION:For one day\, Dayenu activists will be joining lobby events with Mass Power Forward at various locations across the state. Register to let us know you’re interested\, and we’ll get back to you with details.
URL:https://secure.everyaction.com/j_f9BKRdNUilCE6Vc1yABg2#new_tab
LOCATION:In-Person
CATEGORIES:Circles,Events
END:VEVENT
BEGIN:VEVENT
DTSTART;TZID=America/New_York:20260513T173000
DTEND;TZID=America/New_York:20260513T183000
DTSTAMP:20260425T075939
CREATED:20260420T164628Z
LAST-MODIFIED:20260420T165409Z
UID:20846-1778693400-1778697000@dayenu.org
SUMMARY:California Leaders & Volunteers Meeting
DESCRIPTION:Join us for our biweekly statewide gathering\, where leaders and activists from across the state come together to strategize\, connect\, and build community.
URL:https://www.mobilize.us/dayenu/event/918446/#new_tab
LOCATION:Virtual
CATEGORIES:California,Events,We Rise
END:VEVENT
BEGIN:VEVENT
DTSTART;TZID=America/New_York:20260514T171500
DTEND;TZID=America/New_York:20260514T183000
DTSTAMP:20260425T075939
CREATED:20260401T164553Z
LAST-MODIFIED:20260401T164553Z
UID:20722-1778778900-1778783400@dayenu.org
SUMMARY:NY Leaders & Volunteers Meeting
DESCRIPTION:Join us for our biweekly statewide gathering\, where leaders and activists from across the state come together to strategize\, connect\, and build community.
URL:https://www.mobilize.us/dayenu/event/918441/#new_tab
LOCATION:Virtual
CATEGORIES:Circles,Events,New York
END:VEVENT
BEGIN:VEVENT
DTSTART;TZID=America/New_York:20260518T180000
DTEND;TZID=America/New_York:20260518T200000
DTSTAMP:20260425T075939
CREATED:20260309T184918Z
LAST-MODIFIED:20260309T184918Z
UID:20338-1779127200-1779134400@dayenu.org
SUMMARY:Mobilize Climate Voters: Chutzpah Phonebank for May
DESCRIPTION:Join Dayenu’s Chutzpah campaign to organize for a just and livable future! We are mobilizing to get out the vote this spring. In May\, we will call climate voters in Georgia.
URL:https://secure.everyaction.com/gaH80NpRs0atCV8JxTmQlg2#new_tab
LOCATION:Virtual
CATEGORIES:Chutzpah,Events,Phonebanks,We Rise
END:VEVENT
BEGIN:VEVENT
DTSTART;TZID=America/New_York:20260519T160000
DTEND;TZID=America/New_York:20260519T170000
DTSTAMP:20260425T075939
CREATED:20260417T183311Z
LAST-MODIFIED:20260420T165447Z
UID:20842-1779206400-1779210000@dayenu.org
SUMMARY:Midrash & Imagination: Writing the World We Want: Shavuot Edition
DESCRIPTION:Join us for a free\, drop-in creative writing workshop as we explore Shavuot wisdom for Jewish climate work today. Together\, we will learn a midrash (interpretive story based on the biblical text) and use our discussion as a jumping off point for short-form freewriting\, exploring the themes of resisting injustice and building a climate-resilient\, thriving world.
URL:https://secure.everyaction.com/vL4oZqCJu0mjcem9fM0zww2#new_tab
LOCATION:Virtual
CATEGORIES:Arts & Music,Events,Spiritual Adaptation
END:VEVENT
BEGIN:VEVENT
DTSTART;TZID=America/New_York:20260528T171500
DTEND;TZID=America/New_York:20260528T183000
DTSTAMP:20260425T075939
CREATED:20260401T164648Z
LAST-MODIFIED:20260401T164703Z
UID:20724-1779988500-1779993000@dayenu.org
SUMMARY:NY Leaders & Volunteers Meeting
DESCRIPTION:Join us for our biweekly statewide gathering\, where leaders and activists from across the state come together to strategize\, connect\, and build community.
URL:https://www.mobilize.us/dayenu/event/918441/#new_tab
LOCATION:Virtual
CATEGORIES:Circles,Events,New York
END:VEVENT
BEGIN:VEVENT
DTSTART;TZID=America/New_York:20260608T180000
DTEND;TZID=America/New_York:20260608T200000
DTSTAMP:20260425T075939
CREATED:20260309T184916Z
LAST-MODIFIED:20260309T184916Z
UID:20339-1780941600-1780948800@dayenu.org
SUMMARY:Mobilize Climate Voters: Chutzpah Phonebank for June
DESCRIPTION:Join Dayenu’s Chutzpah campaign to organize for a just and livable future! We are mobilizing to get out the vote this spring. In June\, we will call climate voters in Maine.
URL:https://secure.everyaction.com/44nQPlOLBUCTt72EnjnxUw2#new_tab
LOCATION:Virtual
CATEGORIES:Chutzpah,Events,Phonebanks,We Rise
END:VEVENT
BEGIN:VEVENT
DTSTART;TZID=America/New_York:20260610T173000
DTEND;TZID=America/New_York:20260610T183000
DTSTAMP:20260425T075939
CREATED:20260420T164749Z
LAST-MODIFIED:20260420T164749Z
UID:20848-1781112600-1781116200@dayenu.org
SUMMARY:California Leaders & Volunteers Meeting
DESCRIPTION:Join us for our biweekly statewide gathering\, where leaders and activists from across the state come together to strategize\, connect\, and build community.
URL:https://www.mobilize.us/dayenu/event/918446/#new_tab
LOCATION:Virtual
CATEGORIES:California,Events,We Rise
END:VEVENT
BEGIN:VEVENT
DTSTART;TZID=America/New_York:20260611T171500
DTEND;TZID=America/New_York:20260611T183000
DTSTAMP:20260425T075939
CREATED:20260401T164830Z
LAST-MODIFIED:20260401T164830Z
UID:20726-1781198100-1781202600@dayenu.org
SUMMARY:NY Leaders & Volunteers Meeting
DESCRIPTION:Join us for our biweekly statewide gathering\, where leaders and activists from across the state come together to strategize\, connect\, and build community.
URL:https://www.mobilize.us/dayenu/event/918441/#new_tab
LOCATION:Virtual
CATEGORIES:Circles,Events,New York
END:VEVENT
BEGIN:VEVENT
DTSTART;TZID=America/New_York:20260624T173000
DTEND;TZID=America/New_York:20260624T183000
DTSTAMP:20260425T075939
CREATED:20260420T164919Z
LAST-MODIFIED:20260420T165009Z
UID:20850-1782322200-1782325800@dayenu.org
SUMMARY:California Leaders & Volunteers Meeting
DESCRIPTION:Join us for our biweekly statewide gathering\, where leaders and activists from across the state come together to strategize\, connect\, and build community.
URL:https://www.mobilize.us/dayenu/event/918446/#new_tab
LOCATION:Virtual
CATEGORIES:California,Events,We Rise
END:VEVENT
BEGIN:VEVENT
DTSTART;TZID=America/New_York:20260625T171500
DTEND;TZID=America/New_York:20260625T183000
DTSTAMP:20260425T075939
CREATED:20260401T164942Z
LAST-MODIFIED:20260401T164942Z
UID:20728-1782407700-1782412200@dayenu.org
SUMMARY:NY Leaders & Volunteers Meeting
DESCRIPTION:Join us for our biweekly statewide gathering\, where leaders and activists from across the state come together to strategize\, connect\, and build community.
URL:https://www.mobilize.us/dayenu/event/918441/#new_tab
LOCATION:Virtual
CATEGORIES:Circles,Events,New York
END:VEVENT
END:VCALENDAR