BEGIN:VCALENDAR
VERSION:2.0
PRODID:-//Dayenu - ECPv6.10.1.1//NONSGML v1.0//EN
CALSCALE:GREGORIAN
METHOD:PUBLISH
X-WR-CALNAME:Dayenu
X-ORIGINAL-URL:https://dayenu.org
X-WR-CALDESC:Events for Dayenu
REFRESH-INTERVAL;VALUE=DURATION:PT1H
X-Robots-Tag:noindex
X-PUBLISHED-TTL:PT1H
BEGIN:VTIMEZONE
TZID:America/New_York
BEGIN:DAYLIGHT
TZOFFSETFROM:-0500
TZOFFSETTO:-0400
TZNAME:EDT
DTSTART:20260308T070000
END:DAYLIGHT
BEGIN:STANDARD
TZOFFSETFROM:-0400
TZOFFSETTO:-0500
TZNAME:EST
DTSTART:20261101T060000
END:STANDARD
END:VTIMEZONE
BEGIN:VEVENT
DTSTART;TZID=America/New_York:20260416T171500
DTEND;TZID=America/New_York:20260416T183000
DTSTAMP:20260420T044156
CREATED:20260312T200442Z
LAST-MODIFIED:20260312T200449Z
UID:20363-1776359700-1776364200@dayenu.org
SUMMARY:NY Leaders & Volunteers Meeting
DESCRIPTION:Join us for our biweekly statewide gathering\, where leaders and activists from across the state come together to strategize\, connect\, and build community.
URL:https://www.mobilize.us/dayenu/event/918441/#new_tab
LOCATION:Virtual
CATEGORIES:Circles,Events,New York
END:VEVENT
END:VCALENDAR